BEGIN:VCALENDAR
VERSION:2.0
PRODID:-//Wilmore - ECPv6.15.13.1//NONSGML v1.0//EN
CALSCALE:GREGORIAN
METHOD:PUBLISH
X-WR-CALNAME:Wilmore
X-ORIGINAL-URL:https://wilmore.org
X-WR-CALDESC:Events for Wilmore
REFRESH-INTERVAL;VALUE=DURATION:PT1H
X-Robots-Tag:noindex
X-PUBLISHED-TTL:PT1H
BEGIN:VTIMEZONE
TZID:America/Kentucky/Louisville
BEGIN:DAYLIGHT
TZOFFSETFROM:-0500
TZOFFSETTO:-0400
TZNAME:EDT
DTSTART:20260308T070000
END:DAYLIGHT
BEGIN:STANDARD
TZOFFSETFROM:-0400
TZOFFSETTO:-0500
TZNAME:EST
DTSTART:20261101T060000
END:STANDARD
BEGIN:DAYLIGHT
TZOFFSETFROM:-0500
TZOFFSETTO:-0400
TZNAME:EDT
DTSTART:20270314T070000
END:DAYLIGHT
BEGIN:STANDARD
TZOFFSETFROM:-0400
TZOFFSETTO:-0500
TZNAME:EST
DTSTART:20271107T060000
END:STANDARD
BEGIN:DAYLIGHT
TZOFFSETFROM:-0500
TZOFFSETTO:-0400
TZNAME:EDT
DTSTART:20280312T070000
END:DAYLIGHT
BEGIN:STANDARD
TZOFFSETFROM:-0400
TZOFFSETTO:-0500
TZNAME:EST
DTSTART:20281105T060000
END:STANDARD
END:VTIMEZONE
BEGIN:VEVENT
DTSTART;TZID=America/Kentucky/Louisville:20271206T180000
DTEND;TZID=America/Kentucky/Louisville:20271206T190000
DTSTAMP:20260421T214237
CREATED:20260202T145717Z
LAST-MODIFIED:20260202T145717Z
UID:10003356-1828116000-1828119600@wilmore.org
SUMMARY:Wilmore City Council Meeting
DESCRIPTION:The Wilmore City Council is regularly scheduled to meet at 6:00 PM on the first and third Monday evenings of each month at the Wilmore Municipal Center on Lexington Avenue. The public is welcome to attend. You can find the agendas and minutes at Wilmore.org.
URL:https://wilmore.org/event/wilmore-city-council-meeting/2027-12-06/
LOCATION:Wilmore Municipal Center\, 210 S Lexington Ave\, Wilmore\, 40390\, United States
ATTACH;FMTTYPE=image/jpeg:https://wilmore.org/wp-content/uploads/City.jpg
END:VEVENT
BEGIN:VEVENT
DTSTART;TZID=America/Kentucky/Louisville:20271220T180000
DTEND;TZID=America/Kentucky/Louisville:20271220T190000
DTSTAMP:20260421T214237
CREATED:20260202T145857Z
LAST-MODIFIED:20260212T164949Z
UID:10003613-1829325600-1829329200@wilmore.org
SUMMARY:Wilmore City Council Meeting
DESCRIPTION:The Wilmore City Council is regularly scheduled to meet at 6:00 PM on the first and third Monday evenings of each month at the Wilmore Municipal Center on Lexington Avenue. The public is welcome to attend. You can find the agendas and minutes at Wilmore.org.
URL:https://wilmore.org/event/wilmore-city-council-meeting-2/2027-12-20/
LOCATION:Wilmore Municipal Center\, 210 S. Lexington Ave\, Wilmore\, 40390\, United States
ATTACH;FMTTYPE=image/jpeg:https://wilmore.org/wp-content/uploads/City.jpg
END:VEVENT
END:VCALENDAR