BEGIN:VCALENDAR
VERSION:2.0
PRODID:-//Wilmore - ECPv6.15.13.1//NONSGML v1.0//EN
CALSCALE:GREGORIAN
METHOD:PUBLISH
X-WR-CALNAME:Wilmore
X-ORIGINAL-URL:https://wilmore.org
X-WR-CALDESC:Events for Wilmore
REFRESH-INTERVAL;VALUE=DURATION:PT1H
X-Robots-Tag:noindex
X-PUBLISHED-TTL:PT1H
BEGIN:VTIMEZONE
TZID:America/Kentucky/Louisville
BEGIN:DAYLIGHT
TZOFFSETFROM:-0500
TZOFFSETTO:-0400
TZNAME:EDT
DTSTART:20250309T070000
END:DAYLIGHT
BEGIN:STANDARD
TZOFFSETFROM:-0400
TZOFFSETTO:-0500
TZNAME:EST
DTSTART:20251102T060000
END:STANDARD
BEGIN:DAYLIGHT
TZOFFSETFROM:-0500
TZOFFSETTO:-0400
TZNAME:EDT
DTSTART:20260308T070000
END:DAYLIGHT
BEGIN:STANDARD
TZOFFSETFROM:-0400
TZOFFSETTO:-0500
TZNAME:EST
DTSTART:20261101T060000
END:STANDARD
BEGIN:DAYLIGHT
TZOFFSETFROM:-0500
TZOFFSETTO:-0400
TZNAME:EDT
DTSTART:20270314T070000
END:DAYLIGHT
BEGIN:STANDARD
TZOFFSETFROM:-0400
TZOFFSETTO:-0500
TZNAME:EST
DTSTART:20271107T060000
END:STANDARD
END:VTIMEZONE
BEGIN:VEVENT
DTSTART;TZID=America/Kentucky/Louisville:20260918T080000
DTEND;TZID=America/Kentucky/Louisville:20260918T170000
DTSTAMP:20260421T132302
CREATED:20260212T180039Z
LAST-MODIFIED:20260212T180039Z
UID:10003652-1789718400-1789750800@wilmore.org
SUMMARY:More Tales Storytelling Festival
DESCRIPTION:Experience the richness of storytelling by nationally known storytellers. The More Tales Festival is comfortably located in the Dan Glass Pavilion of the Wilmore Municipal Center.  Storytelling begins at 6:30 p.m. on Friday night\, ending at 9 p.m.  Schedule resumes on Saturday morning at 10 a.m. and runs through the day until 9 p.m. Stay tuned for list of performers! \n 
URL:https://wilmore.org/event/more-tales-storytelling-festival-3/2026-09-18/1/
LOCATION:Wilmore Municipal Center\, 210 S. Lexington Ave\, Wilmore\, 40390\, United States
CATEGORIES:150 Wilmore,City Sponsored Event
ATTACH;FMTTYPE=image/png:https://wilmore.org/wp-content/uploads/150-WILMORE-FINAL-3-scaled.png
END:VEVENT
BEGIN:VEVENT
DTSTART;TZID=America/Kentucky/Louisville:20260918T183000
DTEND;TZID=America/Kentucky/Louisville:20260919T210000
DTSTAMP:20260421T132302
CREATED:20260212T180039Z
LAST-MODIFIED:20260212T180039Z
UID:10003651-1789756200-1789851600@wilmore.org
SUMMARY:More Tales Storytelling Festival
DESCRIPTION:Experience the richness of storytelling by nationally known storytellers. The More Tales Festival is comfortably located in the Dan Glass Pavilion of the Wilmore Municipal Center.  Storytelling begins at 6:30 p.m. on Friday night\, ending at 9 p.m.  Schedule resumes on Saturday morning at 10 a.m. and runs through the day until 9 p.m. Stay tuned for list of performers! \n 
URL:https://wilmore.org/event/more-tales-storytelling-festival-3/2026-09-18/2/
LOCATION:Wilmore Municipal Center\, 210 S. Lexington Ave\, Wilmore\, 40390\, United States
CATEGORIES:150 Wilmore,City Sponsored Event
ATTACH;FMTTYPE=image/png:https://wilmore.org/wp-content/uploads/150-WILMORE-FINAL-3-scaled.png
END:VEVENT
END:VCALENDAR