BEGIN:VCALENDAR
VERSION:2.0
PRODID:-//Wilmore - ECPv6.15.13.1//NONSGML v1.0//EN
CALSCALE:GREGORIAN
METHOD:PUBLISH
X-ORIGINAL-URL:https://wilmore.org
X-WR-CALDESC:Events for Wilmore
REFRESH-INTERVAL;VALUE=DURATION:PT1H
X-Robots-Tag:noindex
X-PUBLISHED-TTL:PT1H
BEGIN:VTIMEZONE
TZID:America/Kentucky/Louisville
BEGIN:DAYLIGHT
TZOFFSETFROM:-0500
TZOFFSETTO:-0400
TZNAME:EDT
DTSTART:20250309T070000
END:DAYLIGHT
BEGIN:STANDARD
TZOFFSETFROM:-0400
TZOFFSETTO:-0500
TZNAME:EST
DTSTART:20251102T060000
END:STANDARD
BEGIN:DAYLIGHT
TZOFFSETFROM:-0500
TZOFFSETTO:-0400
TZNAME:EDT
DTSTART:20260308T070000
END:DAYLIGHT
BEGIN:STANDARD
TZOFFSETFROM:-0400
TZOFFSETTO:-0500
TZNAME:EST
DTSTART:20261101T060000
END:STANDARD
BEGIN:DAYLIGHT
TZOFFSETFROM:-0500
TZOFFSETTO:-0400
TZNAME:EDT
DTSTART:20270314T070000
END:DAYLIGHT
BEGIN:STANDARD
TZOFFSETFROM:-0400
TZOFFSETTO:-0500
TZNAME:EST
DTSTART:20271107T060000
END:STANDARD
END:VTIMEZONE
BEGIN:VEVENT
DTSTART;VALUE=DATE:20260611
DTEND;VALUE=DATE:20260614
DTSTAMP:20260419T095640
CREATED:20260402T012844Z
LAST-MODIFIED:20260402T140711Z
UID:10003854-1781136000-1781395199@wilmore.org
SUMMARY:Salute to Service Event
DESCRIPTION:Thomson-Hood Veterans Center – 35 years\nWilmore – 150 years\nUSA – 250 years\n \nRecognizing and honoring 250 veterans\, from the THVC and across Central Kentucky\nMilitary Displays\nMusic Concerts\nFood Trucks\n**Veterans will be honored with a special commemorative coin\, US flag\, and gift bags ** \n  \nVETERANS – would you like to be one of the 250 veterans honored during this event?\nPlease fill out this form:  Veterans Honor Form \nDONATE – would you be like to donate to this amazing event to help honor our local veterans? Please write a check to the City of Wilmore with “Salute to Service” in the memo line.  (You can also call 859.858.4411 and donate over the phone with a card). \nMail to:\nCity of Wilmore\n“Salute to Service”\n210 S. Lexington Ave.\nWilmore\, KY 40390 \n  \nClick here for flyer with more information: Salute to Service Flyer
URL:https://wilmore.org/event/salute-to-service-event/
LOCATION:Thomson-Hood Veterans Center\, 100 Veterans Drive\, Wilmore\, 40390\, United States
ATTACH;FMTTYPE=image/png:https://wilmore.org/wp-content/uploads/Salute-scaled.png
END:VEVENT
END:VCALENDAR