BEGIN:VCALENDAR
VERSION:2.0
PRODID:-//Wilmore - ECPv6.15.13.1//NONSGML v1.0//EN
CALSCALE:GREGORIAN
METHOD:PUBLISH
X-ORIGINAL-URL:https://wilmore.org
X-WR-CALDESC:Events for Wilmore
REFRESH-INTERVAL;VALUE=DURATION:PT1H
X-Robots-Tag:noindex
X-PUBLISHED-TTL:PT1H
BEGIN:VTIMEZONE
TZID:America/Kentucky/Louisville
BEGIN:DAYLIGHT
TZOFFSETFROM:-0500
TZOFFSETTO:-0400
TZNAME:EDT
DTSTART:20240310T070000
END:DAYLIGHT
BEGIN:STANDARD
TZOFFSETFROM:-0400
TZOFFSETTO:-0500
TZNAME:EST
DTSTART:20241103T060000
END:STANDARD
BEGIN:DAYLIGHT
TZOFFSETFROM:-0500
TZOFFSETTO:-0400
TZNAME:EDT
DTSTART:20250309T070000
END:DAYLIGHT
BEGIN:STANDARD
TZOFFSETFROM:-0400
TZOFFSETTO:-0500
TZNAME:EST
DTSTART:20251102T060000
END:STANDARD
BEGIN:DAYLIGHT
TZOFFSETFROM:-0500
TZOFFSETTO:-0400
TZNAME:EDT
DTSTART:20260308T070000
END:DAYLIGHT
BEGIN:STANDARD
TZOFFSETFROM:-0400
TZOFFSETTO:-0500
TZNAME:EST
DTSTART:20261101T060000
END:STANDARD
END:VTIMEZONE
BEGIN:VEVENT
DTSTART;TZID=America/Kentucky/Louisville:20250913T120000
DTEND;TZID=America/Kentucky/Louisville:20250913T220000
DTSTAMP:20260419T095837
CREATED:20250820T023842Z
LAST-MODIFIED:20250820T023842Z
UID:10003188-1757764800-1757800800@wilmore.org
SUMMARY:Ichthus Music Festival
DESCRIPTION:WE CAN’T WAIT TO SEE WHAT GOD HAS IN STORE FOR 2025! \nIchthus Music Festival will be held September 12-13\, 2025! Get ready to enjoy 2 days of great music from Main Stage and a fantastic food truck selection. Check the Line-Up page for more details! \nAfter having to cancel Ichthus 2024 due to to severe weather that came with Hurricane Helene\, we have decided that Ichthus 2025 will be “all Indie” bands and truly make Jesus the “headliner”!!!We will be showcasing a diverse group of independent Artists  \nwith singleness of purpose to uplift the Name of Jesus.  \nPlease check back for latest updates.
URL:https://wilmore.org/event/ichthus-music-festival-2/
LOCATION:Servant Heart Farm\, 9533 Harrodsburg Rd\, Wilmore\, 40390\, United States
ATTACH;FMTTYPE=image/jpeg:https://wilmore.org/wp-content/uploads/Ichthus.jpg
END:VEVENT
BEGIN:VEVENT
DTSTART;TZID=America/Kentucky/Louisville:20250912T170000
DTEND;TZID=America/Kentucky/Louisville:20250912T223000
DTSTAMP:20260419T095837
CREATED:20250625T152654Z
LAST-MODIFIED:20250820T023741Z
UID:10003116-1757696400-1757716200@wilmore.org
SUMMARY:Ichthus Music Festival
DESCRIPTION:WE CAN’T WAIT TO SEE WHAT GOD HAS IN STORE FOR 2025! \nIchthus Music Festival will be held September 12-13\, 2025! Get ready to enjoy 2 days of great music from Main Stage and a fantastic food truck selection. Check the Line-Up page for more details! \nAfter having to cancel Ichthus 2024 due to to severe weather that came with Hurricane Helene\, we have decided that Ichthus 2025 will be “all Indie” bands and truly make Jesus the “headliner”!!!We will be showcasing a diverse group of independent Artists  \nwith singleness of purpose to uplift the Name of Jesus.  \nPlease check back for latest updates.
URL:https://wilmore.org/event/ichthus-music-festival/
LOCATION:Servant Heart Farm\, 9533 Harrodsburg Rd\, Wilmore\, 40390\, United States
ATTACH;FMTTYPE=image/jpeg:https://wilmore.org/wp-content/uploads/Ichthus.jpg
END:VEVENT
BEGIN:VEVENT
DTSTART;TZID=America/Kentucky/Louisville:20250831T180000
DTEND;TZID=America/Kentucky/Louisville:20250831T213000
DTSTAMP:20260419T095837
CREATED:20250821T211805Z
LAST-MODIFIED:20250821T212914Z
UID:10003193-1756663200-1756675800@wilmore.org
SUMMARY:80's Concert - Lexington Lab Band
DESCRIPTION:Join LLB for their annual show featuring a 3 hour setlist of classic tunes with over 50 of your favorite LLB members from the last 12 years! This show is outdoors in the middle of the beautiful horse farms of central Kentucky and is a RAIN OR SHINE event. As always parking is free and the gates open at 6pm. There will be plenty of food trucks and opening music for you and your entire family to enjoy.\nAll ticket levels are General Admission seating. Kids 10 and under can attend for free and do not need a ticket. Lawn chairs and personal coolers are permitted (no glass containers). Easy ups and canopies are discouraged and will only be allowed along the back of the amphitheater.
URL:https://wilmore.org/event/80s-concert-lexington-lab-band/
LOCATION:Servant Heart Farm\, 9533 Harrodsburg Rd\, Wilmore\, 40390\, United States
ATTACH;FMTTYPE=image/jpeg:https://wilmore.org/wp-content/uploads/Lex-Lab-Band.jpg
END:VEVENT
END:VCALENDAR