BEGIN:VCALENDAR
VERSION:2.0
PRODID:-//Wilmore - ECPv6.15.13.1//NONSGML v1.0//EN
CALSCALE:GREGORIAN
METHOD:PUBLISH
X-WR-CALNAME:Wilmore
X-ORIGINAL-URL:https://wilmore.org
X-WR-CALDESC:Events for Wilmore
REFRESH-INTERVAL;VALUE=DURATION:PT1H
X-Robots-Tag:noindex
X-PUBLISHED-TTL:PT1H
BEGIN:VTIMEZONE
TZID:America/Kentucky/Louisville
BEGIN:DAYLIGHT
TZOFFSETFROM:-0500
TZOFFSETTO:-0400
TZNAME:EDT
DTSTART:20230312T070000
END:DAYLIGHT
BEGIN:STANDARD
TZOFFSETFROM:-0400
TZOFFSETTO:-0500
TZNAME:EST
DTSTART:20231105T060000
END:STANDARD
BEGIN:DAYLIGHT
TZOFFSETFROM:-0500
TZOFFSETTO:-0400
TZNAME:EDT
DTSTART:20240310T070000
END:DAYLIGHT
BEGIN:STANDARD
TZOFFSETFROM:-0400
TZOFFSETTO:-0500
TZNAME:EST
DTSTART:20241103T060000
END:STANDARD
BEGIN:DAYLIGHT
TZOFFSETFROM:-0500
TZOFFSETTO:-0400
TZNAME:EDT
DTSTART:20250309T070000
END:DAYLIGHT
BEGIN:STANDARD
TZOFFSETFROM:-0400
TZOFFSETTO:-0500
TZNAME:EST
DTSTART:20251102T060000
END:STANDARD
BEGIN:DAYLIGHT
TZOFFSETFROM:-0500
TZOFFSETTO:-0400
TZNAME:EDT
DTSTART:20260308T070000
END:DAYLIGHT
BEGIN:STANDARD
TZOFFSETFROM:-0400
TZOFFSETTO:-0500
TZNAME:EST
DTSTART:20261101T060000
END:STANDARD
BEGIN:DAYLIGHT
TZOFFSETFROM:-0500
TZOFFSETTO:-0400
TZNAME:EDT
DTSTART:20270314T070000
END:DAYLIGHT
BEGIN:STANDARD
TZOFFSETFROM:-0400
TZOFFSETTO:-0500
TZNAME:EST
DTSTART:20271107T060000
END:STANDARD
END:VTIMEZONE
BEGIN:VEVENT
DTSTART;TZID=America/Kentucky/Louisville:20260418T183000
DTEND;TZID=America/Kentucky/Louisville:20260418T200000
DTSTAMP:20260420T112812
CREATED:20260310T143745Z
LAST-MODIFIED:20260310T143959Z
UID:10003781-1776537000-1776542400@wilmore.org
SUMMARY:Tent Meeting
DESCRIPTION:Asbury Theological Seminary invites the Wilmore community to gather for a three-night Tent Meeting: Renewal for the People of God\, happening April 16–18 at 6:30 PM each evening. \nRooted in the historic Wesleyan camp meeting tradition\, this free\, outdoor meeting offers a space for worship\, prayer\, and Spirit‑led renewal—open to all who long for a fresh encounter with God. \nTHREE NIGHTS OF RENEWAL \nTHURSDAY\, APRIL 16:\nRev. Matt Reynolds\, President and Founder of Spirit & Truth. \nFRIDAY\, APRIL 17:\nDr. Kim Maas\, international minister and author. \nSATURDAY\, APRIL 18:\nDr. Luther Oconer\, Associate Professor of Global Wesleyan Theology at Asbury Seminary. \nThe Tent Meeting is free and open to all. Whether you’re seeking a moment of quiet renewal or a powerful time of community worship\, you’re invited to gather at the tent on our campus with us for this historic event. \nFor more details\, visit: asbury.to/tent
URL:https://wilmore.org/event/tent-meeting/2026-04-18/
LOCATION:Asbury Seminary\, 204 N Lexington Ave.\, Wilmore
ATTACH;FMTTYPE=image/jpeg:https://wilmore.org/wp-content/uploads/Tent-Meeting.jpg
END:VEVENT
BEGIN:VEVENT
DTSTART;TZID=America/Kentucky/Louisville:20260417T183000
DTEND;TZID=America/Kentucky/Louisville:20260417T200000
DTSTAMP:20260420T112812
CREATED:20260310T143745Z
LAST-MODIFIED:20260310T143959Z
UID:10003780-1776450600-1776456000@wilmore.org
SUMMARY:Tent Meeting
DESCRIPTION:Asbury Theological Seminary invites the Wilmore community to gather for a three-night Tent Meeting: Renewal for the People of God\, happening April 16–18 at 6:30 PM each evening. \nRooted in the historic Wesleyan camp meeting tradition\, this free\, outdoor meeting offers a space for worship\, prayer\, and Spirit‑led renewal—open to all who long for a fresh encounter with God. \nTHREE NIGHTS OF RENEWAL \nTHURSDAY\, APRIL 16:\nRev. Matt Reynolds\, President and Founder of Spirit & Truth. \nFRIDAY\, APRIL 17:\nDr. Kim Maas\, international minister and author. \nSATURDAY\, APRIL 18:\nDr. Luther Oconer\, Associate Professor of Global Wesleyan Theology at Asbury Seminary. \nThe Tent Meeting is free and open to all. Whether you’re seeking a moment of quiet renewal or a powerful time of community worship\, you’re invited to gather at the tent on our campus with us for this historic event. \nFor more details\, visit: asbury.to/tent
URL:https://wilmore.org/event/tent-meeting/2026-04-17/
LOCATION:Asbury Seminary\, 204 N Lexington Ave.\, Wilmore
ATTACH;FMTTYPE=image/jpeg:https://wilmore.org/wp-content/uploads/Tent-Meeting.jpg
END:VEVENT
BEGIN:VEVENT
DTSTART;TZID=America/Kentucky/Louisville:20260416T183000
DTEND;TZID=America/Kentucky/Louisville:20260416T200000
DTSTAMP:20260420T112812
CREATED:20260310T143745Z
LAST-MODIFIED:20260310T143959Z
UID:10003779-1776364200-1776369600@wilmore.org
SUMMARY:Tent Meeting
DESCRIPTION:Asbury Theological Seminary invites the Wilmore community to gather for a three-night Tent Meeting: Renewal for the People of God\, happening April 16–18 at 6:30 PM each evening. \nRooted in the historic Wesleyan camp meeting tradition\, this free\, outdoor meeting offers a space for worship\, prayer\, and Spirit‑led renewal—open to all who long for a fresh encounter with God. \nTHREE NIGHTS OF RENEWAL \nTHURSDAY\, APRIL 16:\nRev. Matt Reynolds\, President and Founder of Spirit & Truth. \nFRIDAY\, APRIL 17:\nDr. Kim Maas\, international minister and author. \nSATURDAY\, APRIL 18:\nDr. Luther Oconer\, Associate Professor of Global Wesleyan Theology at Asbury Seminary. \nThe Tent Meeting is free and open to all. Whether you’re seeking a moment of quiet renewal or a powerful time of community worship\, you’re invited to gather at the tent on our campus with us for this historic event. \nFor more details\, visit: asbury.to/tent
URL:https://wilmore.org/event/tent-meeting/2026-04-16/
LOCATION:Asbury Seminary\, 204 N Lexington Ave.\, Wilmore
ATTACH;FMTTYPE=image/jpeg:https://wilmore.org/wp-content/uploads/Tent-Meeting.jpg
END:VEVENT
BEGIN:VEVENT
DTSTART;TZID=America/Kentucky/Louisville:20260319T130000
DTEND;TZID=America/Kentucky/Louisville:20260319T143000
DTSTAMP:20260420T112812
CREATED:20260310T132808Z
LAST-MODIFIED:20260310T132808Z
UID:10003762-1773925200-1773930600@wilmore.org
SUMMARY:Speaker: Chuck Degrout
DESCRIPTION:Chuck DeGroat Lecture Series\nA Martha R. Jones Foundation event in collaboration with Asbury University\, Center for Wholeness and Wellness\n***When Narcissism Comes to Church*** Mar 19th (Thu)\, 1pm-2:30pm – Asbury Theological Seminary (Cowen Building)\, 300 N. Lexington Ave\, Wilmore\, KY
URL:https://wilmore.org/event/speaker-chuck-degrout-2/
LOCATION:Asbury Seminary\, 204 N Lexington Ave.\, Wilmore
ATTACH;FMTTYPE=image/jpeg:https://wilmore.org/wp-content/uploads/Narcissist.jpg
END:VEVENT
BEGIN:VEVENT
DTSTART;TZID=America/Kentucky/Louisville:20250405T080000
DTEND;TZID=America/Kentucky/Louisville:20250405T100000
DTSTAMP:20260420T112812
CREATED:20250303T192805Z
LAST-MODIFIED:20250303T192805Z
UID:10002353-1743840000-1743847200@wilmore.org
SUMMARY:Wesley Waddle
DESCRIPTION:
URL:https://wilmore.org/event/wesley-waddle-2/
LOCATION:Asbury Seminary\, 204 N Lexington Ave.\, Wilmore
ATTACH;FMTTYPE=image/jpeg:https://wilmore.org/wp-content/uploads/Wesley-Waddle-1.jpg
END:VEVENT
BEGIN:VEVENT
DTSTART;TZID=America/Kentucky/Louisville:20250308T190000
DTEND;TZID=America/Kentucky/Louisville:20250308T210000
DTSTAMP:20260420T112812
CREATED:20250306T153453Z
LAST-MODIFIED:20250306T153453Z
UID:10002446-1741460400-1741467600@wilmore.org
SUMMARY:Elvis at ATS!
DESCRIPTION:Experience the iconic ’68 Comeback Special of Elvis Presley live on stage\, bringing the King of Rock ‘n’ Roll back to life in all his glory! \nhttps://www.facebook.com/events/997924042179789 \nLocation: McKenna Chapel \nSaturday\, March 8 · 7 – 9pm EST. Doors at 6:30pm
URL:https://wilmore.org/event/elvis-at-ats/
LOCATION:Asbury Seminary\, 204 N Lexington Ave.\, Wilmore
ATTACH;FMTTYPE=image/jpeg:https://wilmore.org/wp-content/uploads/Elvis.jpg
END:VEVENT
BEGIN:VEVENT
DTSTART;TZID=America/Kentucky/Louisville:20241108T180000
DTEND;TZID=America/Kentucky/Louisville:20241108T200000
DTSTAMP:20260420T112812
CREATED:20241029T013310Z
LAST-MODIFIED:20241029T013310Z
UID:10001188-1731088800-1731096000@wilmore.org
SUMMARY:Ginkgo Gala
DESCRIPTION:Asbury Theological Seminary Dining Hall | November 8\, 6-8 pm\nJoin us for an autumnal dinner with dancing! Our menu is carefully crafted with seasonal sensations curated to evoke a crisp\, November evening next to the warmth of the fireplace. After dessert\, there will be classical and modern music perfect for ballroom dancing. No partner or experience needed! FREE dance lesson included!
URL:https://wilmore.org/event/ginkgo-gala/
LOCATION:Asbury Seminary\, 204 N Lexington Ave.\, Wilmore
ATTACH;FMTTYPE=image/png:https://wilmore.org/wp-content/uploads/Ginko-Dance.png
END:VEVENT
BEGIN:VEVENT
DTSTART;TZID=America/Kentucky/Louisville:20240420T080000
DTEND;TZID=America/Kentucky/Louisville:20240420T100000
DTSTAMP:20260420T112812
CREATED:20240322T182618Z
LAST-MODIFIED:20240322T182921Z
UID:10000676-1713600000-1713607200@wilmore.org
SUMMARY:Wesley Waddle
DESCRIPTION:Wesley Waddle is returning to Wilmore on April 20th\, 2024! Mark your calendar and be sure to join us!\n\nAll participants receive a performance shirt\, finisher’s medal and a post-race coffee & breakfast!\n$100 CASH presented to 1st place overall male and female! Awards presented to 1st\, 2nd\, 3rd overall male and female\, and 1st\, 2nd and 3rd place male and female per age group!\n*Age Group Divisions: 9 & under\, 10-14\, 15-19\, 20-24\, 25-29\, 30-34\, 35-39\, 40-44\, 45-49\, 50-54\, 55-59\, 60-64\, 65-69\, 70+.\n**Strollers are permitted. Pets are not permitted\, but ADA service animals are welcome. \nFor the 8th Annual Wesley Waddle 10K5K\, we’re incredibly excited to partner with the globally renowned END IT Movement\nWith an estimated 20-45 million people enslaved throughout the world\, our goal is to join the freedom fighters by bringing awareness to the movement on race day and beyond. From the young to the old\, we believe in fighting for their lives\, their stories\, and their futures. \n100% of donations will be given to Refuge for Women\, a nationally recognized organization that provides long-term care for women who have escaped human trafficking. Refuge for Women offers safe houses in central Kentucky and across the nation\, equipping each woman to complete their program with a vision for their future and a life marked with dignity and hope. Through these donations\, we hope you’ll join us in fighting for freedom. Together\, we can END IT! \n\n 
URL:https://wilmore.org/event/wesley-waddle/
LOCATION:Asbury Seminary\, 204 N Lexington Ave.\, Wilmore
ATTACH;FMTTYPE=image/jpeg:https://wilmore.org/wp-content/uploads/wesley-waddle.jpg
END:VEVENT
END:VCALENDAR