BEGIN:VCALENDAR
VERSION:2.0
PRODID:-//Wilmore - ECPv6.15.13.1//NONSGML v1.0//EN
CALSCALE:GREGORIAN
METHOD:PUBLISH
X-ORIGINAL-URL:https://wilmore.org
X-WR-CALDESC:Events for Wilmore
REFRESH-INTERVAL;VALUE=DURATION:PT1H
X-Robots-Tag:noindex
X-PUBLISHED-TTL:PT1H
BEGIN:VTIMEZONE
TZID:America/Kentucky/Louisville
BEGIN:DAYLIGHT
TZOFFSETFROM:-0500
TZOFFSETTO:-0400
TZNAME:EDT
DTSTART:20240310T070000
END:DAYLIGHT
BEGIN:STANDARD
TZOFFSETFROM:-0400
TZOFFSETTO:-0500
TZNAME:EST
DTSTART:20241103T060000
END:STANDARD
BEGIN:DAYLIGHT
TZOFFSETFROM:-0500
TZOFFSETTO:-0400
TZNAME:EDT
DTSTART:20250309T070000
END:DAYLIGHT
BEGIN:STANDARD
TZOFFSETFROM:-0400
TZOFFSETTO:-0500
TZNAME:EST
DTSTART:20251102T060000
END:STANDARD
BEGIN:DAYLIGHT
TZOFFSETFROM:-0500
TZOFFSETTO:-0400
TZNAME:EDT
DTSTART:20260308T070000
END:DAYLIGHT
BEGIN:STANDARD
TZOFFSETFROM:-0400
TZOFFSETTO:-0500
TZNAME:EST
DTSTART:20261101T060000
END:STANDARD
BEGIN:DAYLIGHT
TZOFFSETFROM:-0500
TZOFFSETTO:-0400
TZNAME:EDT
DTSTART:20270314T070000
END:DAYLIGHT
BEGIN:STANDARD
TZOFFSETFROM:-0400
TZOFFSETTO:-0500
TZNAME:EST
DTSTART:20271107T060000
END:STANDARD
END:VTIMEZONE
BEGIN:VEVENT
DTSTART;TZID=America/Kentucky/Louisville:20260212T193000
DTEND;TZID=America/Kentucky/Louisville:20260212T200000
DTSTAMP:20260421T040604
CREATED:20260210T183818Z
LAST-MODIFIED:20260210T183818Z
UID:10003526-1770924600-1770926400@wilmore.org
SUMMARY:AU Choral Valentine Concert
DESCRIPTION:Choral\, Mens Glee Club\, Women’s Choir
URL:https://wilmore.org/event/au-choral-valentine-concert/
LOCATION:Asbury University\, 1 Macklem Drive\, Wilmore\, 40390\, United States
ATTACH;FMTTYPE=image/jpeg:https://wilmore.org/wp-content/uploads/AU-Music.jpg
END:VEVENT
BEGIN:VEVENT
DTSTART;TZID=America/Kentucky/Louisville:20260212T190000
DTEND;TZID=America/Kentucky/Louisville:20260212T210000
DTSTAMP:20260421T040604
CREATED:20260203T172120Z
LAST-MODIFIED:20260203T172120Z
UID:10003468-1770922800-1770930000@wilmore.org
SUMMARY:Asbury Men's Basketball vs Belhaven University
DESCRIPTION:
URL:https://wilmore.org/event/asbury-mens-basketball-vs-belhaven-university-2/
LOCATION:Asbury University\, 1 Macklem Drive\, Wilmore\, 40390\, United States
ATTACH;FMTTYPE=image/png:https://wilmore.org/wp-content/uploads/Wilmore-Calendar-Cover-6180907.png
END:VEVENT
BEGIN:VEVENT
DTSTART;TZID=America/Kentucky/Louisville:20260212T190000
DTEND;TZID=America/Kentucky/Louisville:20260212T210000
DTSTAMP:20260421T040604
CREATED:20260203T170625Z
LAST-MODIFIED:20260203T170625Z
UID:10003466-1770922800-1770930000@wilmore.org
SUMMARY:Asbury Men's Basketball vs Belhaven University
DESCRIPTION:
URL:https://wilmore.org/event/asbury-mens-basketball-vs-belhaven-university/
LOCATION:Asbury University\, 1 Macklem Drive\, Wilmore\, 40390\, United States
ATTACH;FMTTYPE=image/png:https://wilmore.org/wp-content/uploads/Wilmore-Calendar-Cover-6180907.png
END:VEVENT
BEGIN:VEVENT
DTSTART;TZID=America/Kentucky/Louisville:20260212T170000
DTEND;TZID=America/Kentucky/Louisville:20260212T190000
DTSTAMP:20260421T040604
CREATED:20260203T170620Z
LAST-MODIFIED:20260203T170620Z
UID:10003465-1770915600-1770922800@wilmore.org
SUMMARY:Asbury Women's Basketball vs Belhaven University
DESCRIPTION:
URL:https://wilmore.org/event/asbury-womens-basketball-vs-belhaven-university/
LOCATION:Asbury University\, 1 Macklem Drive\, Wilmore\, 40390\, United States
ATTACH;FMTTYPE=image/png:https://wilmore.org/wp-content/uploads/Wilmore-Calendar-Cover-6180907.png
END:VEVENT
BEGIN:VEVENT
DTSTART;TZID=America/Kentucky/Louisville:20260202T190000
DTEND;TZID=America/Kentucky/Louisville:20260202T200000
DTSTAMP:20260421T040604
CREATED:20260202T153154Z
LAST-MODIFIED:20260202T153154Z
UID:10003460-1770058800-1770062400@wilmore.org
SUMMARY:Speaker on Imago Dei
DESCRIPTION:At the Collaborative Learning Center (CLC) Auditorium
URL:https://wilmore.org/event/speaker-on-imago-dei/
LOCATION:Asbury University\, 1 Macklem Drive\, Wilmore\, 40390\, United States
ATTACH;FMTTYPE=image/jpeg:https://wilmore.org/wp-content/uploads/Speaker-Malcolm.jpg
END:VEVENT
BEGIN:VEVENT
DTSTART;TZID=America/Kentucky/Louisville:20260126T193000
DTEND;TZID=America/Kentucky/Louisville:20260126T203000
DTSTAMP:20260421T040604
CREATED:20251227T224753Z
LAST-MODIFIED:20251227T224753Z
UID:10003256-1769455800-1769459400@wilmore.org
SUMMARY:Live Music
DESCRIPTION:Faculty Piano Recital: Dr. Mary Ann Wilder
URL:https://wilmore.org/event/live-music-4/
LOCATION:Asbury University\, 1 Macklem Drive\, Wilmore\, 40390\, United States
ATTACH;FMTTYPE=image/jpeg:https://wilmore.org/wp-content/uploads/AU-Logo-1.jpg
END:VEVENT
BEGIN:VEVENT
DTSTART;TZID=America/Kentucky/Louisville:20260116T100000
DTEND;TZID=America/Kentucky/Louisville:20260116T110000
DTSTAMP:20260421T040604
CREATED:20251227T224056Z
LAST-MODIFIED:20251227T224056Z
UID:10003253-1768557600-1768561200@wilmore.org
SUMMARY:MLK Remembrance
DESCRIPTION:Chapel: Dr. Martin Luther King Jr. Remembrance with Dr. Michael Preacely
URL:https://wilmore.org/event/mlk-remembrance/
LOCATION:Asbury University\, 1 Macklem Drive\, Wilmore\, 40390\, United States
ATTACH;FMTTYPE=image/jpeg:https://wilmore.org/wp-content/uploads/AU-Logo-1.jpg
END:VEVENT
BEGIN:VEVENT
DTSTART;TZID=America/Kentucky/Louisville:20251205T193000
DTEND;TZID=America/Kentucky/Louisville:20251205T203000
DTSTAMP:20260421T040604
CREATED:20251202T024050Z
LAST-MODIFIED:20251202T024050Z
UID:10003241-1764963000-1764966600@wilmore.org
SUMMARY:Songs of the Season
DESCRIPTION:
URL:https://wilmore.org/event/songs-of-the-season/
LOCATION:Asbury University\, 1 Macklem Drive\, Wilmore\, 40390\, United States
ATTACH;FMTTYPE=image/jpeg:https://wilmore.org/wp-content/uploads/AU-Xmas-Songs.jpg
END:VEVENT
BEGIN:VEVENT
DTSTART;TZID=America/Kentucky/Louisville:20251204T110000
DTEND;TZID=America/Kentucky/Louisville:20251204T120000
DTSTAMP:20260421T040604
CREATED:20251202T022829Z
LAST-MODIFIED:20251202T022829Z
UID:10003237-1764846000-1764849600@wilmore.org
SUMMARY:AU Story Hour
DESCRIPTION:
URL:https://wilmore.org/event/au-story-hour/
LOCATION:Asbury University\, 1 Macklem Drive\, Wilmore\, 40390\, United States
ATTACH;FMTTYPE=image/jpeg:https://wilmore.org/wp-content/uploads/Xmas-Story-Hour.jpg
END:VEVENT
BEGIN:VEVENT
DTSTART;TZID=America/Kentucky/Louisville:20251203T100000
DTEND;TZID=America/Kentucky/Louisville:20251203T110000
DTSTAMP:20260421T040604
CREATED:20251202T023905Z
LAST-MODIFIED:20251202T023905Z
UID:10003240-1764756000-1764759600@wilmore.org
SUMMARY:AU Christmas Music Chapel
DESCRIPTION:
URL:https://wilmore.org/event/au-christmas-music-chapel/
LOCATION:Asbury University\, 1 Macklem Drive\, Wilmore\, 40390\, United States
ATTACH;FMTTYPE=image/jpeg:https://wilmore.org/wp-content/uploads/AU-Xmas-Songs.jpg
END:VEVENT
BEGIN:VEVENT
DTSTART;TZID=America/Kentucky/Louisville:20251025T140000
DTEND;TZID=America/Kentucky/Louisville:20251025T160000
DTSTAMP:20260421T040604
CREATED:20250702T150432Z
LAST-MODIFIED:20250702T150432Z
UID:10003127-1761400800-1761408000@wilmore.org
SUMMARY:Asbury Men's Soccer vs. Covenant College
DESCRIPTION:
URL:https://wilmore.org/event/asbury-mens-soccer-vs-covenant-college/
LOCATION:Asbury University\, 1 Macklem Drive\, Wilmore\, 40390\, United States
ATTACH;FMTTYPE=image/png:https://wilmore.org/wp-content/uploads/Wilmore-Calendar-Cover-6180907.png
END:VEVENT
BEGIN:VEVENT
DTSTART;TZID=America/Kentucky/Louisville:20251022T190000
DTEND;TZID=America/Kentucky/Louisville:20251022T210000
DTSTAMP:20260421T040604
CREATED:20250702T151701Z
LAST-MODIFIED:20250702T151701Z
UID:10003137-1761159600-1761166800@wilmore.org
SUMMARY:Asbury Women's Soccer vs. Midway University
DESCRIPTION:
URL:https://wilmore.org/event/asbury-womens-soccer-vs-midway-university/
LOCATION:Asbury University\, 1 Macklem Drive\, Wilmore\, 40390\, United States
ATTACH;FMTTYPE=image/png:https://wilmore.org/wp-content/uploads/Wilmore-Calendar-Cover-6180907.png
END:VEVENT
BEGIN:VEVENT
DTSTART;TZID=America/Kentucky/Louisville:20251022T170000
DTEND;TZID=America/Kentucky/Louisville:20251022T190000
DTSTAMP:20260421T040604
CREATED:20250702T150352Z
LAST-MODIFIED:20250702T150352Z
UID:10003126-1761152400-1761159600@wilmore.org
SUMMARY:Asbury Men's Soccer vs. Midway University
DESCRIPTION:
URL:https://wilmore.org/event/asbury-mens-soccer-vs-midway-university/
LOCATION:Asbury University\, 1 Macklem Drive\, Wilmore\, 40390\, United States
ATTACH;FMTTYPE=image/png:https://wilmore.org/wp-content/uploads/Wilmore-Calendar-Cover-6180907.png
END:VEVENT
BEGIN:VEVENT
DTSTART;TZID=America/Kentucky/Louisville:20251018T153000
DTEND;TZID=America/Kentucky/Louisville:20251018T173000
DTSTAMP:20260421T040604
CREATED:20250702T150311Z
LAST-MODIFIED:20250702T150311Z
UID:10003125-1760801400-1760808600@wilmore.org
SUMMARY:Asbury Men's Soccer vs. LaGrange College
DESCRIPTION:SENIOR DAY
URL:https://wilmore.org/event/asbury-mens-soccer-vs-lagrange-college/
LOCATION:Asbury University\, 1 Macklem Drive\, Wilmore\, 40390\, United States
ATTACH;FMTTYPE=image/png:https://wilmore.org/wp-content/uploads/Wilmore-Calendar-Cover-6180907.png
END:VEVENT
BEGIN:VEVENT
DTSTART;TZID=America/Kentucky/Louisville:20251018T130000
DTEND;TZID=America/Kentucky/Louisville:20251018T150000
DTSTAMP:20260421T040604
CREATED:20250702T151621Z
LAST-MODIFIED:20250702T151621Z
UID:10003136-1760792400-1760799600@wilmore.org
SUMMARY:Asbury Women's Soccer vs. Belhaven University
DESCRIPTION:
URL:https://wilmore.org/event/asbury-womens-soccer-vs-belhaven-university/
LOCATION:Asbury University\, 1 Macklem Drive\, Wilmore\, 40390\, United States
ATTACH;FMTTYPE=image/png:https://wilmore.org/wp-content/uploads/Wilmore-Calendar-Cover-6180907.png
END:VEVENT
BEGIN:VEVENT
DTSTART;TZID=America/Kentucky/Louisville:20251011T140000
DTEND;TZID=America/Kentucky/Louisville:20251011T160000
DTSTAMP:20260421T040604
CREATED:20250702T150216Z
LAST-MODIFIED:20250702T150216Z
UID:10003124-1760191200-1760198400@wilmore.org
SUMMARY:Asbury Men's Soccer vs. Belhaven University
DESCRIPTION:
URL:https://wilmore.org/event/asbury-mens-soccer-vs-belhaven-university/
LOCATION:Asbury University\, 1 Macklem Drive\, Wilmore\, 40390\, United States
ATTACH;FMTTYPE=image/png:https://wilmore.org/wp-content/uploads/Wilmore-Calendar-Cover-6180907.png
END:VEVENT
BEGIN:VEVENT
DTSTART;TZID=America/Kentucky/Louisville:20251008T190000
DTEND;TZID=America/Kentucky/Louisville:20251008T210000
DTSTAMP:20260421T040604
CREATED:20250702T151521Z
LAST-MODIFIED:20250702T151521Z
UID:10003135-1759950000-1759957200@wilmore.org
SUMMARY:Asbury Women's Soccer vs. Maryville College
DESCRIPTION:
URL:https://wilmore.org/event/asbury-womens-soccer-vs-maryville-college/
LOCATION:Asbury University\, 1 Macklem Drive\, Wilmore\, 40390\, United States
ATTACH;FMTTYPE=image/png:https://wilmore.org/wp-content/uploads/Wilmore-Calendar-Cover-6180907.png
END:VEVENT
BEGIN:VEVENT
DTSTART;TZID=America/Kentucky/Louisville:20251004T140000
DTEND;TZID=America/Kentucky/Louisville:20251004T160000
DTSTAMP:20260421T040604
CREATED:20250702T151439Z
LAST-MODIFIED:20250702T151439Z
UID:10003134-1759586400-1759593600@wilmore.org
SUMMARY:Asbury Women's Soccer vs. LaGrange College
DESCRIPTION:SENIOR DAY
URL:https://wilmore.org/event/asbury-womens-soccer-vs-lagrange-college/
LOCATION:Asbury University\, 1 Macklem Drive\, Wilmore\, 40390\, United States
ATTACH;FMTTYPE=image/png:https://wilmore.org/wp-content/uploads/Wilmore-Calendar-Cover-6180907.png
END:VEVENT
BEGIN:VEVENT
DTSTART;TZID=America/Kentucky/Louisville:20251001T190000
DTEND;TZID=America/Kentucky/Louisville:20251001T210000
DTSTAMP:20260421T040604
CREATED:20250702T150126Z
LAST-MODIFIED:20250702T150126Z
UID:10003123-1759345200-1759352400@wilmore.org
SUMMARY:Asbury Men's Soccer vs. Berea College
DESCRIPTION:
URL:https://wilmore.org/event/asbury-mens-soccer-vs-berea-college/
LOCATION:Asbury University\, 1 Macklem Drive\, Wilmore\, 40390\, United States
ATTACH;FMTTYPE=image/png:https://wilmore.org/wp-content/uploads/Wilmore-Calendar-Cover-6180907.png
END:VEVENT
BEGIN:VEVENT
DTSTART;TZID=America/Kentucky/Louisville:20250922T190000
DTEND;TZID=America/Kentucky/Louisville:20250922T210000
DTSTAMP:20260421T040604
CREATED:20250702T145912Z
LAST-MODIFIED:20250702T145912Z
UID:10003122-1758567600-1758574800@wilmore.org
SUMMARY:Asbury Men's Soccer vs. Spalding University
DESCRIPTION:
URL:https://wilmore.org/event/asbury-mens-soccer-vs-spalding-university/
LOCATION:Asbury University\, 1 Macklem Drive\, Wilmore\, 40390\, United States
ATTACH;FMTTYPE=image/png:https://wilmore.org/wp-content/uploads/Wilmore-Calendar-Cover-6180907.png
END:VEVENT
BEGIN:VEVENT
DTSTART;TZID=America/Kentucky/Louisville:20250920T153000
DTEND;TZID=America/Kentucky/Louisville:20250920T173000
DTSTAMP:20260421T040604
CREATED:20250702T145735Z
LAST-MODIFIED:20250702T145735Z
UID:10003121-1758382200-1758389400@wilmore.org
SUMMARY:Asbury Men's Soccer vs. Indiana University
DESCRIPTION:
URL:https://wilmore.org/event/asbury-mens-soccer-vs-indiana-university/
LOCATION:Asbury University\, 1 Macklem Drive\, Wilmore\, 40390\, United States
ATTACH;FMTTYPE=image/png:https://wilmore.org/wp-content/uploads/Wilmore-Calendar-Cover-6180907.png
END:VEVENT
BEGIN:VEVENT
DTSTART;TZID=America/Kentucky/Louisville:20250920T130000
DTEND;TZID=America/Kentucky/Louisville:20250920T150000
DTSTAMP:20260421T040604
CREATED:20250702T151358Z
LAST-MODIFIED:20250702T151358Z
UID:10003133-1758373200-1758380400@wilmore.org
SUMMARY:Asbury Women's Soccer vs. Huntingdon College
DESCRIPTION:
URL:https://wilmore.org/event/asbury-womens-soccer-vs-huntingdon-college/
LOCATION:Asbury University\, 1 Macklem Drive\, Wilmore\, 40390\, United States
ATTACH;FMTTYPE=image/png:https://wilmore.org/wp-content/uploads/Wilmore-Calendar-Cover-6180907.png
END:VEVENT
BEGIN:VEVENT
DTSTART;TZID=America/Kentucky/Louisville:20250919T193000
DTEND;TZID=America/Kentucky/Louisville:20250919T213000
DTSTAMP:20260421T040604
CREATED:20250817T003322Z
LAST-MODIFIED:20250817T003322Z
UID:10003184-1758310200-1758317400@wilmore.org
SUMMARY:Theatre Performance
DESCRIPTION:Theatre Dept.: Walking into a New World (Student Cabaret) at Greathouse Theatre
URL:https://wilmore.org/event/theatre-performance/
LOCATION:Asbury University\, 1 Macklem Drive\, Wilmore\, 40390\, United States
ATTACH;FMTTYPE=image/jpeg:https://wilmore.org/wp-content/uploads/AU-Logo-1.jpg
END:VEVENT
BEGIN:VEVENT
DTSTART;TZID=America/Kentucky/Louisville:20250918T110000
DTEND;TZID=America/Kentucky/Louisville:20250918T120000
DTSTAMP:20260421T040604
CREATED:20250817T003041Z
LAST-MODIFIED:20250817T003041Z
UID:10003183-1758193200-1758196800@wilmore.org
SUMMARY:Music: Vocal Recital
DESCRIPTION:Guest Vocal Recital – Gregory Turay at Jameson Hall
URL:https://wilmore.org/event/music-vocal-recital/
LOCATION:Asbury University\, 1 Macklem Drive\, Wilmore\, 40390\, United States
ATTACH;FMTTYPE=image/jpeg:https://wilmore.org/wp-content/uploads/AU-Logo-1.jpg
END:VEVENT
BEGIN:VEVENT
DTSTART;TZID=America/Kentucky/Louisville:20250917T190000
DTEND;TZID=America/Kentucky/Louisville:20250917T210000
DTSTAMP:20260421T040604
CREATED:20250702T145511Z
LAST-MODIFIED:20250702T145511Z
UID:10003120-1758135600-1758142800@wilmore.org
SUMMARY:Asbury Men's Soccer vs. Hanover College
DESCRIPTION:
URL:https://wilmore.org/event/asbury-mens-soccer-vs-hanover-college/
LOCATION:Asbury University\, 1 Macklem Drive\, Wilmore\, 40390\, United States
ATTACH;FMTTYPE=image/png:https://wilmore.org/wp-content/uploads/Wilmore-Calendar-Cover-6180907.png
END:VEVENT
BEGIN:VEVENT
DTSTART;TZID=America/Kentucky/Louisville:20250915T193000
DTEND;TZID=America/Kentucky/Louisville:20250915T203000
DTSTAMP:20260421T040604
CREATED:20250817T002448Z
LAST-MODIFIED:20250817T002448Z
UID:10003181-1757964600-1757968200@wilmore.org
SUMMARY:Music: Alumni Recital
DESCRIPTION:Alumni Recital and Reception at Jamison Hall
URL:https://wilmore.org/event/music-alumni-recital/
LOCATION:Asbury University\, 1 Macklem Drive\, Wilmore\, 40390\, United States
ATTACH;FMTTYPE=image/jpeg:https://wilmore.org/wp-content/uploads/AU-Logo-1.jpg
END:VEVENT
BEGIN:VEVENT
DTSTART;TZID=America/Kentucky/Louisville:20250915T190000
DTEND;TZID=America/Kentucky/Louisville:20250915T200000
DTSTAMP:20260421T040604
CREATED:20250817T002101Z
LAST-MODIFIED:20250817T002101Z
UID:10003180-1757962800-1757966400@wilmore.org
SUMMARY:Speaker: What are Christians For?
DESCRIPTION:An exploration of ideas based on Meador’s 2022 book\, What Are Christians For? The event will be held in Asbury’s Shaw CLC Auditorium. Sponsored by the AU Honors Program.
URL:https://wilmore.org/event/speaker-what-are-christians-for/
LOCATION:Asbury University\, 1 Macklem Drive\, Wilmore\, 40390\, United States
ATTACH;FMTTYPE=image/jpeg:https://wilmore.org/wp-content/uploads/AU-Logo-1.jpg
END:VEVENT
BEGIN:VEVENT
DTSTART;VALUE=DATE:20250915
DTEND;VALUE=DATE:20250921
DTSTAMP:20260421T040604
CREATED:20250817T002655Z
LAST-MODIFIED:20250817T002655Z
UID:10003182-1757894400-1758412799@wilmore.org
SUMMARY:Kinlaw Library Book Sale
DESCRIPTION:
URL:https://wilmore.org/event/kinlaw-library-book-sale/
LOCATION:Asbury University\, 1 Macklem Drive\, Wilmore\, 40390\, United States
ATTACH;FMTTYPE=image/jpeg:https://wilmore.org/wp-content/uploads/AU-Logo-1.jpg
END:VEVENT
BEGIN:VEVENT
DTSTART;TZID=America/Kentucky/Louisville:20250913T190000
DTEND;TZID=America/Kentucky/Louisville:20250913T210000
DTSTAMP:20260421T040604
CREATED:20250702T145405Z
LAST-MODIFIED:20250702T145528Z
UID:10003119-1757790000-1757797200@wilmore.org
SUMMARY:Asbury Men's Soccer vs. Boyce College
DESCRIPTION:
URL:https://wilmore.org/event/asbury-mens-soccer-vs-boyce-college/
LOCATION:Asbury University\, 1 Macklem Drive\, Wilmore\, 40390\, United States
ATTACH;FMTTYPE=image/png:https://wilmore.org/wp-content/uploads/Wilmore-Calendar-Cover-6180907.png
END:VEVENT
BEGIN:VEVENT
DTSTART;TZID=America/Kentucky/Louisville:20250910T190000
DTEND;TZID=America/Kentucky/Louisville:20250910T210000
DTSTAMP:20260421T040604
CREATED:20250702T151309Z
LAST-MODIFIED:20250702T151309Z
UID:10003132-1757530800-1757538000@wilmore.org
SUMMARY:Asbury Women's Soccer vs. Berea College
DESCRIPTION:
URL:https://wilmore.org/event/asbury-womens-soccer-vs-berea-college/
LOCATION:Asbury University\, 1 Macklem Drive\, Wilmore\, 40390\, United States
ATTACH;FMTTYPE=image/png:https://wilmore.org/wp-content/uploads/Wilmore-Calendar-Cover-6180907.png
END:VEVENT
END:VCALENDAR