BEGIN:VCALENDAR
VERSION:2.0
PRODID:-//Wilmore - ECPv6.15.13.1//NONSGML v1.0//EN
CALSCALE:GREGORIAN
METHOD:PUBLISH
X-ORIGINAL-URL:https://wilmore.org
X-WR-CALDESC:Events for Wilmore
REFRESH-INTERVAL;VALUE=DURATION:PT1H
X-Robots-Tag:noindex
X-PUBLISHED-TTL:PT1H
BEGIN:VTIMEZONE
TZID:America/Kentucky/Louisville
BEGIN:DAYLIGHT
TZOFFSETFROM:-0500
TZOFFSETTO:-0400
TZNAME:EDT
DTSTART:20230312T070000
END:DAYLIGHT
BEGIN:STANDARD
TZOFFSETFROM:-0400
TZOFFSETTO:-0500
TZNAME:EST
DTSTART:20231105T060000
END:STANDARD
BEGIN:DAYLIGHT
TZOFFSETFROM:-0500
TZOFFSETTO:-0400
TZNAME:EDT
DTSTART:20240310T070000
END:DAYLIGHT
BEGIN:STANDARD
TZOFFSETFROM:-0400
TZOFFSETTO:-0500
TZNAME:EST
DTSTART:20241103T060000
END:STANDARD
BEGIN:DAYLIGHT
TZOFFSETFROM:-0500
TZOFFSETTO:-0400
TZNAME:EDT
DTSTART:20250309T070000
END:DAYLIGHT
BEGIN:STANDARD
TZOFFSETFROM:-0400
TZOFFSETTO:-0500
TZNAME:EST
DTSTART:20251102T060000
END:STANDARD
END:VTIMEZONE
BEGIN:VEVENT
DTSTART;TZID=America/Kentucky/Louisville:20240115T130000
DTEND;TZID=America/Kentucky/Louisville:20240115T150000
DTSTAMP:20260422T075934
CREATED:20240103T220303Z
LAST-MODIFIED:20240103T220303Z
UID:10000648-1705323600-1705330800@wilmore.org
SUMMARY:MLK March
DESCRIPTION:LEXINGTON\, Ky. (Nov. 20\, 2023) — This year’s MLK Holiday Celebration will be Jan. 15\, 2024 beginning with the annual Freedom March at 1 p.m. and concluding with the powerful commemorative program held at the Central Bank Center at 2 p.m. The march begins and ends at the Central Bank Center in downtown Lexington. \n“This storied event has been praised by media commentators and several of our illustrious speakers as ‘one of the best in the country for its consistent record of presenting thoughtful\, timely and creatively uplifting programs\,’” said Chester Grundy\, MLK Day Event chairperson since 1974. “We look forward to celebrating with our community and invite everyone to come together on Jan. 15.” \nThe MLK Holiday Observance in Lexington provides an opportunity for our community to come together to honor Martin Luther King’s legacy of freedom\, justice\, peace and equal opportunity for all Americans. The annual march and program draws participation of several thousand people from across Central Kentucky and beyond. The MLK Holiday Observance is a free public event designed to inspire the better angels of our nature as we unite as a community to elevate King’s vision and legacy. The 2023 march had a record crowd of over 8\,000. \nThe program keynote speaker this year is Rev. Kevin W. Cosby\, Ph.D. The internationally renowned youth choral ensemble Uniting Voices Chicago and Uniting Voices Lexington will be the featured artists at the commemorative program. \nCommunity members can support the MLK Celebration at https://bgcf.givingfuel.com/mlk-holiday-committee-fund.
URL:https://wilmore.org/event/mlk-march/
LOCATION:Downtown Lexington\, 430 W Vine St\, Lexington\, 40507\, United States
ATTACH;FMTTYPE=image/jpeg:https://wilmore.org/wp-content/uploads/MLKmarch.jpeg
END:VEVENT
END:VCALENDAR