BEGIN:VCALENDAR
VERSION:2.0
PRODID:-//Wilmore - ECPv6.15.13.1//NONSGML v1.0//EN
CALSCALE:GREGORIAN
METHOD:PUBLISH
X-ORIGINAL-URL:https://wilmore.org
X-WR-CALDESC:Events for Wilmore
REFRESH-INTERVAL;VALUE=DURATION:PT1H
X-Robots-Tag:noindex
X-PUBLISHED-TTL:PT1H
BEGIN:VTIMEZONE
TZID:America/Kentucky/Louisville
BEGIN:DAYLIGHT
TZOFFSETFROM:-0500
TZOFFSETTO:-0400
TZNAME:EDT
DTSTART:20230312T070000
END:DAYLIGHT
BEGIN:STANDARD
TZOFFSETFROM:-0400
TZOFFSETTO:-0500
TZNAME:EST
DTSTART:20231105T060000
END:STANDARD
BEGIN:DAYLIGHT
TZOFFSETFROM:-0500
TZOFFSETTO:-0400
TZNAME:EDT
DTSTART:20240310T070000
END:DAYLIGHT
BEGIN:STANDARD
TZOFFSETFROM:-0400
TZOFFSETTO:-0500
TZNAME:EST
DTSTART:20241103T060000
END:STANDARD
BEGIN:DAYLIGHT
TZOFFSETFROM:-0500
TZOFFSETTO:-0400
TZNAME:EDT
DTSTART:20250309T070000
END:DAYLIGHT
BEGIN:STANDARD
TZOFFSETFROM:-0400
TZOFFSETTO:-0500
TZNAME:EST
DTSTART:20251102T060000
END:STANDARD
BEGIN:DAYLIGHT
TZOFFSETFROM:-0500
TZOFFSETTO:-0400
TZNAME:EDT
DTSTART:20260308T070000
END:DAYLIGHT
BEGIN:STANDARD
TZOFFSETFROM:-0400
TZOFFSETTO:-0500
TZNAME:EST
DTSTART:20261101T060000
END:STANDARD
END:VTIMEZONE
BEGIN:VEVENT
DTSTART;TZID=America/Kentucky/Louisville:20250430T120000
DTEND;TZID=America/Kentucky/Louisville:20250430T133000
DTSTAMP:20260424T095333
CREATED:20250418T022315Z
LAST-MODIFIED:20250418T030202Z
UID:10002987-1746014400-1746019800@wilmore.org
SUMMARY:Legislative Luncheon
DESCRIPTION:
URL:https://wilmore.org/event/legislative-luncheon/
LOCATION:Jessamine County Public Library\, 600 S Main St\, Nicholasville\, KY\, 40356\, United States
ATTACH;FMTTYPE=image/jpeg:https://wilmore.org/wp-content/uploads/Legislative-Luncheon.jpg
END:VEVENT
BEGIN:VEVENT
DTSTART;TZID=America/Kentucky/Louisville:20250319T183000
DTEND;TZID=America/Kentucky/Louisville:20250319T193000
DTSTAMP:20260424T095333
CREATED:20250306T154539Z
LAST-MODIFIED:20250306T154539Z
UID:10002449-1742409000-1742412600@wilmore.org
SUMMARY:Animal Academy: KY Bloodhound SAR
DESCRIPTION:Are you an animal lover? Do you enjoy learning interesting facts about animals and seeing them up close and in person? Join us for an interactive\, hands-on opportunity to meet and learn about all kinds of animals—from species you can find in your own backyard to those found around the world—in ways you never have before. \nThis program is geared towards elementary-aged children and their parents/caregivers. \nLearn about the amazing abilities of the Bloodhound and how KY Bloodhound SAR works with these animals to find   missing persons and return them home.
URL:https://wilmore.org/event/animal-academy-ky-bloodhound-sar/
LOCATION:Jessamine County Public Library\, 600 S Main St\, Nicholasville\, KY\, 40356\, United States
ATTACH;FMTTYPE=image/jpeg:https://wilmore.org/wp-content/uploads/Bloodhound.jpg
END:VEVENT
BEGIN:VEVENT
DTSTART;TZID=America/Kentucky/Louisville:20240727T140000
DTEND;TZID=America/Kentucky/Louisville:20240727T160000
DTSTAMP:20260424T095333
CREATED:20240710T160346Z
LAST-MODIFIED:20240710T160346Z
UID:10000845-1722088800-1722096000@wilmore.org
SUMMARY:Board Game Afternoon Primary tabs
DESCRIPTION:Learn a new game or bring a favorite game of your own to share with others. We will also have Exit Games (a type of escape-room-in-a-box) if people want to try it out! Enjoy light refreshments at this come-and-go event hosted in partnership with the Jessamine Area Gamers (JAG). \nNo registration is required.
URL:https://wilmore.org/event/board-game-afternoon-primary-tabs/
LOCATION:Jessamine County Public Library\, 600 S Main St\, Nicholasville\, KY\, 40356\, United States
ATTACH;FMTTYPE=image/jpeg:https://wilmore.org/wp-content/uploads/Board-games_evanced.jpeg
END:VEVENT
BEGIN:VEVENT
DTSTART;TZID=America/Kentucky/Louisville:20240724T093000
DTEND;TZID=America/Kentucky/Louisville:20240724T203000
DTSTAMP:20260424T095333
CREATED:20240710T160630Z
LAST-MODIFIED:20240710T160630Z
UID:10000846-1721813400-1721853000@wilmore.org
SUMMARY:Summer Learning Book Store Primary tabs
DESCRIPTION:Celebrate the end of Summer Learning by collecting your reward! Children and teens who participate in at least four of the seven weeks of Summer Learning are eligible to receive a free gift book of their choice. \nThe Summer Learning Book Store is available from July 22nd through July 28th!
URL:https://wilmore.org/event/summer-learning-book-store-primary-tabs-2/
LOCATION:Jessamine County Public Library\, 600 S Main St\, Nicholasville\, KY\, 40356\, United States
ATTACH;FMTTYPE=image/jpeg:https://wilmore.org/wp-content/uploads/Copy-of-Calendar-Image-for-Evanced-81.jpeg
END:VEVENT
BEGIN:VEVENT
DTSTART;TZID=America/Kentucky/Louisville:20240723T160000
DTEND;TZID=America/Kentucky/Louisville:20240723T180000
DTSTAMP:20260424T095333
CREATED:20240710T160034Z
LAST-MODIFIED:20240710T160034Z
UID:10000844-1721750400-1721757600@wilmore.org
SUMMARY:Learn and Go: Health & Hygiene Primary tabs
DESCRIPTION:Join us at this come-and-go event to learn how to access free health and hygiene products and the Period Power program. Plus\, enter to win a fabulous spa basket giveaway!
URL:https://wilmore.org/event/learn-and-go-health-hygiene-primary-tabs/
LOCATION:Jessamine County Public Library\, 600 S Main St\, Nicholasville\, KY\, 40356\, United States
ATTACH;FMTTYPE=image/jpeg:https://wilmore.org/wp-content/uploads/Hygiene-Drive-Image-for-Calendar.jpeg
END:VEVENT
BEGIN:VEVENT
DTSTART;TZID=America/Kentucky/Louisville:20240723T093000
DTEND;TZID=America/Kentucky/Louisville:20240723T200000
DTSTAMP:20260424T095333
CREATED:20240630T182557Z
LAST-MODIFIED:20240630T182557Z
UID:10000838-1721727000-1721764800@wilmore.org
SUMMARY:Summer Learning Book Store Primary tabs
DESCRIPTION:Celebrate the end of Summer Learning by collecting your reward! Children and teens who participate in at least four of the seven weeks of Summer Learning are eligible to receive a free gift book of their choice. \nThe Summer Learning Book Store is available from July 22nd through July 28th!
URL:https://wilmore.org/event/summer-learning-book-store-primary-tabs/
LOCATION:Jessamine County Public Library\, 600 S Main St\, Nicholasville\, KY\, 40356\, United States
ATTACH;FMTTYPE=image/jpeg:https://wilmore.org/wp-content/uploads/Copy-of-Calendar-Image-for-Evanced-81.jpeg
END:VEVENT
BEGIN:VEVENT
DTSTART;TZID=America/Kentucky/Louisville:20240716T190000
DTEND;TZID=America/Kentucky/Louisville:20240716T200000
DTSTAMP:20260424T095333
CREATED:20240630T182333Z
LAST-MODIFIED:20240630T182333Z
UID:10000837-1721156400-1721160000@wilmore.org
SUMMARY:Summer Learning Family Program: Juggler\, the Space Painter
DESCRIPTION:Our Summer Learning Family Performances are family-friendly programs specifically selected with elementary-aged students in mind. All ages are welcome.  \nJoin Tom Sparough\, the Space Painter\, for a juggling adventure. “Adventure Juggler” is a comic romp of long-distance ball\, club\, and bird manipulation. Don’t worry\, it’s all planned out on the juggling map\, but we will travel as the bird flies! \nYou will be transformed into adventure jugglers; everyone who comes to this show will get a chance to accelerate their creativity. Some of us will take the road less traveled as we share our juggling creations with each other. \nNo registration is required.
URL:https://wilmore.org/event/summer-learning-family-program-juggler-the-space-painter/
LOCATION:Jessamine County Public Library\, 600 S Main St\, Nicholasville\, KY\, 40356\, United States
ATTACH;FMTTYPE=image/jpeg:https://wilmore.org/wp-content/uploads/Copy-of-Calendar-Image-for-Evanced-97_0.jpeg
END:VEVENT
BEGIN:VEVENT
DTSTART;TZID=America/Kentucky/Louisville:20240711T190000
DTEND;TZID=America/Kentucky/Louisville:20240711T200000
DTSTAMP:20260424T095333
CREATED:20240628T135819Z
LAST-MODIFIED:20240628T135819Z
UID:10000833-1720724400-1720728000@wilmore.org
SUMMARY:Poetry and Slam Writing for Teens
DESCRIPTION:Do you love writing\, creating characters\, and drafting scripts?  This group will help you explore those interests with your fellow writers! \nRegistration for this event will close on July 11\, 2024 @ 7:00pm.\nThere are 30 seats remaining.
URL:https://wilmore.org/event/poetry-and-slam-writing-for-teens/
LOCATION:Jessamine County Public Library\, 600 S Main St\, Nicholasville\, KY\, 40356\, United States
ATTACH;FMTTYPE=image/jpeg:https://wilmore.org/wp-content/uploads/Poetry-Slam-Cal-image.jpeg
END:VEVENT
BEGIN:VEVENT
DTSTART;TZID=America/Kentucky/Louisville:20240711T163000
DTEND;TZID=America/Kentucky/Louisville:20240711T180000
DTSTAMP:20260424T095333
CREATED:20240628T135630Z
LAST-MODIFIED:20240628T135630Z
UID:10000832-1720715400-1720720800@wilmore.org
SUMMARY:Crafty Corner
DESCRIPTION:Join us for a time of crafting with friends! We will have several different crafts available (including diamond painting\, Mod Podge\, etc.) so come pick your favorite or try them all! No experience necessary and all materials will be provided. \nNo registration is required. 
URL:https://wilmore.org/event/crafty-corner/
LOCATION:Jessamine County Public Library\, 600 S Main St\, Nicholasville\, KY\, 40356\, United States
ATTACH;FMTTYPE=image/jpeg:https://wilmore.org/wp-content/uploads/crafty-corner.jpeg
END:VEVENT
BEGIN:VEVENT
DTSTART;TZID=America/Kentucky/Louisville:20240710T180000
DTEND;TZID=America/Kentucky/Louisville:20240710T200000
DTSTAMP:20260424T095333
CREATED:20240628T135444Z
LAST-MODIFIED:20240628T135444Z
UID:10000831-1720634400-1720641600@wilmore.org
SUMMARY:Palette Art Painting Night for Teens
DESCRIPTION:Teen Paint Night! Hang out with fellow teen painters and follow along in a guided to learn the art of palette painting.  We will be painting derby horses. \nRegistration for this event will be open from July 3\, 2024 @ 11:00am to July 10\, 2024 @ 6:00pm.
URL:https://wilmore.org/event/palette-art-painting-night-for-teens/
LOCATION:Jessamine County Public Library\, 600 S Main St\, Nicholasville\, KY\, 40356\, United States
ATTACH;FMTTYPE=image/jpeg:https://wilmore.org/wp-content/uploads/paintbrush.jpeg
END:VEVENT
BEGIN:VEVENT
DTSTART;TZID=America/Kentucky/Louisville:20240709T190000
DTEND;TZID=America/Kentucky/Louisville:20240709T200000
DTSTAMP:20260424T095333
CREATED:20240628T135033Z
LAST-MODIFIED:20240628T135033Z
UID:10000830-1720551600-1720555200@wilmore.org
SUMMARY:Summer Learning Family Program: Dancing Dogs
DESCRIPTION:Our Summer Learning Family Performances are family-friendly programs specifically selected with elementary-aged students in mind. All ages are welcome. \nMeet Dancing Dogs and their trick dog trainer who deliver show-stopping routines featuring jumps\, leaps and spins. Dancing Dogs are no strangers to the big screen and have appeared on The Late Show with David Letterman and competed in America’s Got Talent. Dancing Dogs love to perform and they can’t wait to entertain you with their amazing talent.
URL:https://wilmore.org/event/summer-learning-family-program-dancing-dogs/
LOCATION:Jessamine County Public Library\, 600 S Main St\, Nicholasville\, KY\, 40356\, United States
ATTACH;FMTTYPE=image/jpeg:https://wilmore.org/wp-content/uploads/Dancing-Dogs-Pic_0.jpeg
END:VEVENT
BEGIN:VEVENT
DTSTART;TZID=America/Kentucky/Louisville:20240708T103000
DTEND;TZID=America/Kentucky/Louisville:20240708T233000
DTSTAMP:20260424T095333
CREATED:20240628T134830Z
LAST-MODIFIED:20240628T134830Z
UID:10000829-1720434600-1720481400@wilmore.org
SUMMARY:Summer Storytime
DESCRIPTION:Join us for a summer full of adventure with lots of stories and songs! We will read\, sing\, and dance during this high-energy storytime. This program is geared toward kids ages 0-5 years of age\, although older siblings are welcome.
URL:https://wilmore.org/event/summer-storytime-2/
LOCATION:Jessamine County Public Library\, 600 S Main St\, Nicholasville\, KY\, 40356\, United States
ATTACH;FMTTYPE=image/jpeg:https://wilmore.org/wp-content/uploads/summer-story-time-.jpeg
END:VEVENT
BEGIN:VEVENT
DTSTART;TZID=America/Kentucky/Louisville:20240701T130000
DTEND;TZID=America/Kentucky/Louisville:20240701T160000
DTSTAMP:20260424T095333
CREATED:20240628T134619Z
LAST-MODIFIED:20240628T134619Z
UID:10000828-1719838800-1719849600@wilmore.org
SUMMARY:Kentucky Career Center
DESCRIPTION:Meet one-on-one with a representative from the Kentucky Career Center for career counseling and job search assistance. \nThe event will take place in the Davis Conference Room in the Jessamine County Public Library.
URL:https://wilmore.org/event/kentucky-career-center/
LOCATION:Jessamine County Public Library\, 600 S Main St\, Nicholasville\, KY\, 40356\, United States
ATTACH;FMTTYPE=image/jpeg:https://wilmore.org/wp-content/uploads/KCC.jpeg
END:VEVENT
BEGIN:VEVENT
DTSTART;TZID=America/Kentucky/Louisville:20240625T103000
DTEND;TZID=America/Kentucky/Louisville:20240625T113000
DTSTAMP:20260424T095333
CREATED:20240619T180349Z
LAST-MODIFIED:20240619T180349Z
UID:10000827-1719311400-1719315000@wilmore.org
SUMMARY:Summer Learning Family Program: Ventriloquist\, Gene Cordova
DESCRIPTION:Our Summer Learning Family Performances are family-friendly programs specifically selected with elementary-aged students in mind. All ages are welcome.  \n“Adventures in Reading!” Join Gene and his band of Merry-Makers as they open up your imagination and head out on an exciting Adventure. \nEveryone will laugh and learn as Gene uses his unique talents that include Ventriloquism\, Puppetry\, Comedy Magic\, Storytelling\, Balloon Antics and LOTS of Audience Participation. \nNo registration is required.
URL:https://wilmore.org/event/summer-learning-family-program-ventriloquist-gene-cordova/
LOCATION:Jessamine County Public Library\, 600 S Main St\, Nicholasville\, KY\, 40356\, United States
ATTACH;FMTTYPE=image/jpeg:https://wilmore.org/wp-content/uploads/puppet-thing-.jpeg
END:VEVENT
BEGIN:VEVENT
DTSTART;TZID=America/Kentucky/Louisville:20240624T103000
DTEND;TZID=America/Kentucky/Louisville:20240624T233000
DTSTAMP:20260424T095333
CREATED:20240619T175852Z
LAST-MODIFIED:20240619T175852Z
UID:10000825-1719225000-1719271800@wilmore.org
SUMMARY:Summer Storytime
DESCRIPTION:Join us for a summer full of adventure with lots of stories and songs! We will read\, sing\, and dance during this high-energy storytime. This program is geared toward kids ages 0-5 years of age\, although older siblings are welcome. \nNo registration is required.
URL:https://wilmore.org/event/summer-storytime/
LOCATION:Jessamine County Public Library\, 600 S Main St\, Nicholasville\, KY\, 40356\, United States
ATTACH;FMTTYPE=image/jpeg:https://wilmore.org/wp-content/uploads/summer-story-time-.jpeg
END:VEVENT
BEGIN:VEVENT
DTSTART;TZID=America/Kentucky/Louisville:20240621T150000
DTEND;TZID=America/Kentucky/Louisville:20240621T170000
DTSTAMP:20260424T095333
CREATED:20240619T174114Z
LAST-MODIFIED:20240619T174114Z
UID:10000823-1718982000-1718989200@wilmore.org
SUMMARY:Live Butterfly Encounter
DESCRIPTION:Walk among live butterflies and feed them by hand while learning about these fascinating creatures. Join us for our interactive butterfly encounter and experience the beauty of native Kentucky butterflies up close and personal. \nEvent sponsored by Glynn Young’s Landscaping & Nursery Center.
URL:https://wilmore.org/event/live-butterfly-encounter/
LOCATION:Jessamine County Public Library\, 600 S Main St\, Nicholasville\, KY\, 40356\, United States
ATTACH;FMTTYPE=image/jpeg:https://wilmore.org/wp-content/uploads/Butterfly-Encounter.jpeg
END:VEVENT
BEGIN:VEVENT
DTSTART;TZID=America/Kentucky/Louisville:20240602T130000
DTEND;TZID=America/Kentucky/Louisville:20240602T170000
DTSTAMP:20260424T095333
CREATED:20240524T171225Z
LAST-MODIFIED:20240524T171225Z
UID:10000805-1717333200-1717347600@wilmore.org
SUMMARY:Summer Learning Kick-Off Party
DESCRIPTION:Join us to kick off the 2024 Summer Learning Program: “Adventure Awaits”!\nYou’ll learn how you can participate in the Summer Learning program while the whole family has fun! Enjoy inflatables\, an exotic zoo\, a stunt jump\, a mystery scavenger hunt\, and more!\nNo registration is required.
URL:https://wilmore.org/event/summer-learning-kick-off-party/
LOCATION:Jessamine County Public Library\, 600 S Main St\, Nicholasville\, KY\, 40356\, United States
ATTACH;FMTTYPE=image/jpeg:https://wilmore.org/wp-content/uploads/Summer-Learning-Kick-Off-Party-scaled.jpeg
END:VEVENT
BEGIN:VEVENT
DTSTART;TZID=America/Kentucky/Louisville:20240124T170000
DTEND;TZID=America/Kentucky/Louisville:20240124T180000
DTSTAMP:20260424T095333
CREATED:20240103T221510Z
LAST-MODIFIED:20240103T221510Z
UID:10000653-1706115600-1706119200@wilmore.org
SUMMARY:Meet the Artist: Laura Szekely
DESCRIPTION:Stop by and meet Laura Szekely\, the artist behind the “United by Hugs” exhibit currently on display in the JCPL gallery cases! Come ask the artist questions or just take the opportunity to appreciate her handiwork. Light refreshments will be available.
URL:https://wilmore.org/event/meet-the-artist-laura-szekely/
LOCATION:Jessamine County Public Library\, 600 S Main St\, Nicholasville\, KY\, 40356\, United States
ATTACH;FMTTYPE=image/jpeg:https://wilmore.org/wp-content/uploads/jcpl.jpg
END:VEVENT
BEGIN:VEVENT
DTSTART;TZID=America/Kentucky/Louisville:20240120T140000
DTEND;TZID=America/Kentucky/Louisville:20240120T160000
DTSTAMP:20260424T095333
CREATED:20240103T221046Z
LAST-MODIFIED:20240103T221046Z
UID:10000651-1705759200-1705766400@wilmore.org
SUMMARY:Board Games
DESCRIPTION:Learn a new game or bring a favorite game of your own to share with others! Enjoy light refreshments at this come-and-go event hosted in partnership with the Jessamine Area Gamers (JAG).
URL:https://wilmore.org/event/board-games/
LOCATION:Jessamine County Public Library\, 600 S Main St\, Nicholasville\, KY\, 40356\, United States
ATTACH;FMTTYPE=image/jpeg:https://wilmore.org/wp-content/uploads/jcpl.jpg
END:VEVENT
BEGIN:VEVENT
DTSTART;TZID=America/Kentucky/Louisville:20240111T170000
DTEND;TZID=America/Kentucky/Louisville:20240111T180000
DTSTAMP:20260424T095333
CREATED:20240103T214658Z
LAST-MODIFIED:20240103T214658Z
UID:10000643-1704992400-1704996000@wilmore.org
SUMMARY:Camp Nelson & the Civil War
DESCRIPTION:Join us for a local history talk! Park Ranger Steve Phan from Camp Nelson will detail the complex evolution of African American military service in Kentucky to the Civil War in his talk Bastion of Freedom: Camp Nelson and the Civil War. Light refreshments will be provided.
URL:https://wilmore.org/event/camp-nelson-the-civil-war/
LOCATION:Jessamine County Public Library\, 600 S Main St\, Nicholasville\, KY\, 40356\, United States
ATTACH;FMTTYPE=image/jpeg:https://wilmore.org/wp-content/uploads/jcpl.jpg
END:VEVENT
BEGIN:VEVENT
DTSTART;TZID=America/Kentucky/Louisville:20240105T163000
DTEND;TZID=America/Kentucky/Louisville:20240105T173000
DTSTAMP:20260424T095333
CREATED:20240103T212757Z
LAST-MODIFIED:20240103T213232Z
UID:10000640-1704472200-1704475800@wilmore.org
SUMMARY:Bandlab and Cakewalk
DESCRIPTION:
URL:https://wilmore.org/event/bandlab-and-cakewalk/
LOCATION:Jessamine County Public Library\, 600 S Main St\, Nicholasville\, KY\, 40356\, United States
ATTACH;FMTTYPE=image/jpeg:https://wilmore.org/wp-content/uploads/jcpl.jpg
END:VEVENT
END:VCALENDAR