BEGIN:VCALENDAR
VERSION:2.0
PRODID:-//Wilmore - ECPv6.15.13.1//NONSGML v1.0//EN
CALSCALE:GREGORIAN
METHOD:PUBLISH
X-WR-CALNAME:Wilmore
X-ORIGINAL-URL:https://wilmore.org
X-WR-CALDESC:Events for Wilmore
REFRESH-INTERVAL;VALUE=DURATION:PT1H
X-Robots-Tag:noindex
X-PUBLISHED-TTL:PT1H
BEGIN:VTIMEZONE
TZID:America/Kentucky/Louisville
BEGIN:DAYLIGHT
TZOFFSETFROM:-0500
TZOFFSETTO:-0400
TZNAME:EDT
DTSTART:20220313T070000
END:DAYLIGHT
BEGIN:STANDARD
TZOFFSETFROM:-0400
TZOFFSETTO:-0500
TZNAME:EST
DTSTART:20221106T060000
END:STANDARD
BEGIN:DAYLIGHT
TZOFFSETFROM:-0500
TZOFFSETTO:-0400
TZNAME:EDT
DTSTART:20230312T070000
END:DAYLIGHT
BEGIN:STANDARD
TZOFFSETFROM:-0400
TZOFFSETTO:-0500
TZNAME:EST
DTSTART:20231105T060000
END:STANDARD
BEGIN:DAYLIGHT
TZOFFSETFROM:-0500
TZOFFSETTO:-0400
TZNAME:EDT
DTSTART:20240310T070000
END:DAYLIGHT
BEGIN:STANDARD
TZOFFSETFROM:-0400
TZOFFSETTO:-0500
TZNAME:EST
DTSTART:20241103T060000
END:STANDARD
BEGIN:DAYLIGHT
TZOFFSETFROM:-0500
TZOFFSETTO:-0400
TZNAME:EDT
DTSTART:20250309T070000
END:DAYLIGHT
BEGIN:STANDARD
TZOFFSETFROM:-0400
TZOFFSETTO:-0500
TZNAME:EST
DTSTART:20251102T060000
END:STANDARD
END:VTIMEZONE
BEGIN:VEVENT
DTSTART;TZID=America/Kentucky/Louisville:20240920T183000
DTEND;TZID=America/Kentucky/Louisville:20240920T210000
DTSTAMP:20260422T093044
CREATED:20240716T184020Z
LAST-MODIFIED:20240910T154214Z
UID:10000853-1726857000-1726866000@wilmore.org
SUMMARY:More Tales - Wilmore Storytelling Festival
DESCRIPTION:More Tales celebrates the revival of the storytelling arts over the weekend of September 20-21\, 2024. Storytelling fans and newcomers to the festival will hear master storytellers with decades of experience. This year will see the first Kentucky Liars Contest on Saturday afternoon. Spine Tingling Tales\, a crowd favorite\, begin at 6:30 on Friday night September 21. \n“Our imagination is captured by a story well told\,” said Ed Bryson\, the festival’s director and one of the featured storytellers. “It is a thrill to see people lost in trance as they hang onto a story’s plot line.” Five master storytellers will perform from the festival’s stage. \nWilmore is known for family friendly events\, said Judy Woolums\, Wilmore’s Community Development director. “We are very excited that the More Tales Story Telling Festival has become a featured event in Wilmore.” Storytelling fans and those new to the art can attend the festival free of charge thanks to our generous donors and sponsors. For more information visit https://www.moretalesstoryfest.org/ \nMaster Storyteller and West Virginia Liar’s Contest winner Adam Booth will perform on Thursday night\, September 19 for the Fiber’s Feast. Tickets to this event help support More Tales. Get tickets at https://wilmore.org/event/fibbers-feast-of-more-tales-storytelling-festival/
URL:https://wilmore.org/event/more-tales-wilmore-storytelling-festival/
LOCATION:Wilmore Municipal Center\, 210 S. Lexington Ave\, Wilmore\, 40390\, United States
CATEGORIES:City Sponsored Event
ATTACH;FMTTYPE=image/png:https://wilmore.org/wp-content/uploads/Story-Telling.png
END:VEVENT
BEGIN:VEVENT
DTSTART;VALUE=DATE:20240912
DTEND;VALUE=DATE:20240915
DTSTAMP:20260422T093044
CREATED:20240910T153236Z
LAST-MODIFIED:20240912T135221Z
UID:10001146-1726099200-1726358399@wilmore.org
SUMMARY:Tot's & Teens Consignment Sale
DESCRIPTION:Video – Tots N Teens Fall 2024 \n  \n  \nOffering the best in boutique and name brand! Thursday & Friday\, 10-7 and Saturday\, 9-1. \n 
URL:https://wilmore.org/event/tots-teens-consignment-sale/
LOCATION:Wilmore Municipal Center\, 210 S. Lexington Ave\, Wilmore\, 40390\, United States
ATTACH;FMTTYPE=image/jpeg:https://wilmore.org/wp-content/uploads/Consignment-Sale.jpg
END:VEVENT
BEGIN:VEVENT
DTSTART;TZID=America/Kentucky/Louisville:20240824T100000
DTEND;TZID=America/Kentucky/Louisville:20240824T113000
DTSTAMP:20260422T093044
CREATED:20240708T170712Z
LAST-MODIFIED:20240708T182500Z
UID:10000841-1724493600-1724499000@wilmore.org
SUMMARY:Solar over Wilmore - Free Energy Savings Seminar
DESCRIPTION: Do you or someone you know want to save money on energy costs?   Two free sessions are scheduled for Saturday\, July 27\, 2024 and Saturday\, August 24\, 2024 at the Wilmore Municipal Center from 10:00 – 11:30 AM.   Come learn about various sources of energy including solar\, but also learn tips and tricks to save energy in your home in general from an experienced leader in the solar industry\, Daniel Wier\, Owner of Commonwealth Solar LLC.\n         These sessions are sponsored by the Community based “Solar Over Wilmore” committee that is working toward lowering the energy costs for the City of Wilmore by adding eighty (80) solar panels on the Dan Glass Pavilion located behind the Wilmore Municipal Center.\n\n—————————————————-\nSolar Over Wilmore Project Update:\nOur grassroots project to add a 40 KW Solar Array to the Dan Glass Pavilion is off to a good start. Thanks to all those who have sponsored a solar panel or part of one to help solarize the City of Wilmore office complex by installing eighty solar panels on the Dan Glass Pavilion located behind the Wilmore Municipal Center. So far\, we have donations and pledges of over $18\,000 toward our goal of $64\,000.\n\nThroughout the summer look for a tent with a large solar panel on display at the Farmers Market on Saturdays\, parades like on July 4th and the Fall Festival in October. As the coordinator of the project\, I am hoping that citizens who love living in our beautiful City of Wilmore will want to “give back” to the city by sponsoring a solar panel or part of one. One more thought. Please consider donating overtime if that will be easier for you. Donate any amount each month for the remainder of 2024. You don’t have to sponsor a solar panel all at once. Lori Vahle at City Hall will keep track of your donations.\n\nMore details and a signup form can be found at The City of Wilmore website under the “Community” Tab and then “Wilmore Municipal Center” or go to this link on the City of Wilmore website\, or you can just bring a check to the front desk at City Hall. Our local\nproject team includes Dale Shunk\, David Riel\, Amy Fitch\, Vince Lewellen\, and Daniel Wier from Commonwealth Solar LLC.\nSolar Power To The People\,\nDale Shunk\, “Solar Over Wilmore” Coordinator\n\n 
URL:https://wilmore.org/event/solar-over-wilmore-free-energy-savings-seminar/2024-08-24/
LOCATION:Wilmore Municipal Center\, 210 S. Lexington Ave\, Wilmore\, 40390\, United States
ATTACH;FMTTYPE=image/jpeg:https://wilmore.org/wp-content/uploads/Dan-Glass-picture-with-Solar-Over-Wilmore-logo.jpg
END:VEVENT
BEGIN:VEVENT
DTSTART;TZID=America/Kentucky/Louisville:20240727T100000
DTEND;TZID=America/Kentucky/Louisville:20240727T113000
DTSTAMP:20260422T093044
CREATED:20240708T170712Z
LAST-MODIFIED:20240708T182500Z
UID:10000840-1722074400-1722079800@wilmore.org
SUMMARY:Solar over Wilmore - Free Energy Savings Seminar
DESCRIPTION: Do you or someone you know want to save money on energy costs?   Two free sessions are scheduled for Saturday\, July 27\, 2024 and Saturday\, August 24\, 2024 at the Wilmore Municipal Center from 10:00 – 11:30 AM.   Come learn about various sources of energy including solar\, but also learn tips and tricks to save energy in your home in general from an experienced leader in the solar industry\, Daniel Wier\, Owner of Commonwealth Solar LLC.\n         These sessions are sponsored by the Community based “Solar Over Wilmore” committee that is working toward lowering the energy costs for the City of Wilmore by adding eighty (80) solar panels on the Dan Glass Pavilion located behind the Wilmore Municipal Center.\n\n—————————————————-\nSolar Over Wilmore Project Update:\nOur grassroots project to add a 40 KW Solar Array to the Dan Glass Pavilion is off to a good start. Thanks to all those who have sponsored a solar panel or part of one to help solarize the City of Wilmore office complex by installing eighty solar panels on the Dan Glass Pavilion located behind the Wilmore Municipal Center. So far\, we have donations and pledges of over $18\,000 toward our goal of $64\,000.\n\nThroughout the summer look for a tent with a large solar panel on display at the Farmers Market on Saturdays\, parades like on July 4th and the Fall Festival in October. As the coordinator of the project\, I am hoping that citizens who love living in our beautiful City of Wilmore will want to “give back” to the city by sponsoring a solar panel or part of one. One more thought. Please consider donating overtime if that will be easier for you. Donate any amount each month for the remainder of 2024. You don’t have to sponsor a solar panel all at once. Lori Vahle at City Hall will keep track of your donations.\n\nMore details and a signup form can be found at The City of Wilmore website under the “Community” Tab and then “Wilmore Municipal Center” or go to this link on the City of Wilmore website\, or you can just bring a check to the front desk at City Hall. Our local\nproject team includes Dale Shunk\, David Riel\, Amy Fitch\, Vince Lewellen\, and Daniel Wier from Commonwealth Solar LLC.\nSolar Power To The People\,\nDale Shunk\, “Solar Over Wilmore” Coordinator\n\n 
URL:https://wilmore.org/event/solar-over-wilmore-free-energy-savings-seminar/2024-07-27/
LOCATION:Wilmore Municipal Center\, 210 S. Lexington Ave\, Wilmore\, 40390\, United States
ATTACH;FMTTYPE=image/jpeg:https://wilmore.org/wp-content/uploads/Dan-Glass-picture-with-Solar-Over-Wilmore-logo.jpg
END:VEVENT
BEGIN:VEVENT
DTSTART;TZID=America/Kentucky/Louisville:20240704T100000
DTEND;TZID=America/Kentucky/Louisville:20240704T150000
DTSTAMP:20260422T093044
CREATED:20240405T152027Z
LAST-MODIFIED:20240604T144732Z
UID:10000734-1720087200-1720105200@wilmore.org
SUMMARY:Festival of the 4th
DESCRIPTION:PARADE – 10:00am – best viewing for parade will be on Lexington Ave. between Asbury U. & ATS or along E. Main St! \n**Want to be in the parade? – Please use this form to register to get all the important information.  No cost to be in the parade.  Register HERE \n  \nFESTIVAL – following parade – Wilmore Municipal Center\, 210 S. Lexington Ave. \nInflatables\, food trucks\, music\, arts/crafts vendors\, and more!! \n**NEW** YOUTH Entrepreneur Fair –\nMore info & register HERE\n \nPlease note – regular Arts/Crafts vendors are full and not accepting new registrations for 2024.  \n 
URL:https://wilmore.org/event/festival-of-the-4th/
LOCATION:Wilmore Municipal Center\, 210 S. Lexington Ave\, Wilmore\, 40390\, United States
CATEGORIES:City Sponsored Event
ATTACH;FMTTYPE=image/png:https://wilmore.org/wp-content/uploads/4th-of-July-Independence-Day-US-Flyer.png
END:VEVENT
BEGIN:VEVENT
DTSTART;TZID=America/Kentucky/Louisville:20240629T080000
DTEND;TZID=America/Kentucky/Louisville:20240629T100000
DTSTAMP:20260422T093044
CREATED:20240122T023325Z
LAST-MODIFIED:20240405T173850Z
UID:10000662-1719648000-1719655200@wilmore.org
SUMMARY:RJ Corman 5K Run
DESCRIPTION:REGISTER:  https://runsignup.com/Race/KY/Wilmore/RJCorman5KRun \n  \nA beautiful (and challenging) 5K run through downtown Wilmore and surrounding subdivisions.  This race is in conjunction with Wilmore’s Festival of the 4th held annually.  Mr. Corman\, along with Taylor Made Farm and Central Bank\, were the original sponsors and helped create this annual event.  The race was renamed to honor and remember Mr. Corman’s contributions to Wilmore.  The run begins and ends at the Wilmore Municipal Center parking lot at 210 S. Lexington Ave.  Free t-shirt to all who pre-register.  Water available along the course and refreshments following the race. \nAwards to the top three male & female finishers and the top three in the following age categories: \n10 & under; 11-14; 15-19; 20-24; 25-29; 30-34; 35-39; 40-44; 45-49; 50-54; 55-59; 60-64; 65-69; 70 & over \nThe run begins and ends in the parking lot of the Wilmore Municipal Center\, located at 210 S. Lexington Ave. in Wilmore. \n  \nTHANK YOU TO OUR SPONSORS:  The RJ Corman Railroad Group\, Central Bank\, Taylor Made Farm & Highbridge Springwater!! \n 
URL:https://wilmore.org/event/rj-corman-5-k-run/
LOCATION:Wilmore Municipal Center\, 210 S. Lexington Ave\, Wilmore\, 40390\, United States
CATEGORIES:City Sponsored Event
ATTACH;FMTTYPE=image/jpeg:https://wilmore.org/wp-content/uploads/RJ-Corman-5K-1.jpg
END:VEVENT
BEGIN:VEVENT
DTSTART;TZID=America/Kentucky/Louisville:20240217T190000
DTEND;TZID=America/Kentucky/Louisville:20240217T203000
DTSTAMP:20260422T093044
CREATED:20240130T004611Z
LAST-MODIFIED:20240204T202657Z
UID:10000665-1708196400-1708201800@wilmore.org
SUMMARY:80’s Revival
DESCRIPTION:
URL:https://wilmore.org/event/80s-revival/
LOCATION:Wilmore Municipal Center\, 210 S. Lexington Ave\, Wilmore\, 40390\, United States
ATTACH;FMTTYPE=image/jpeg:https://wilmore.org/wp-content/uploads/80srevival.jpg
END:VEVENT
BEGIN:VEVENT
DTSTART;TZID=America/Kentucky/Louisville:20231107T150000
DTEND;TZID=America/Kentucky/Louisville:20231107T163000
DTSTAMP:20260422T093044
CREATED:20230912T025902Z
LAST-MODIFIED:20231029T230801Z
UID:10000002-1699369200-1699374600@wilmore.org
SUMMARY:Wilmore Book Club
DESCRIPTION:
URL:https://wilmore.org/event/wilmore-book-club/
LOCATION:Wilmore Municipal Center\, 210 S. Lexington Ave\, Wilmore\, 40390\, United States
CATEGORIES:City Sponsored Event
ATTACH;FMTTYPE=image/jpeg:https://wilmore.org/wp-content/uploads/book-club.jpg
END:VEVENT
END:VCALENDAR